BEGIN:VCALENDAR
VERSION:2.0
PRODID:-//Tom Bird - ECPv6.15.18//NONSGML v1.0//EN
CALSCALE:GREGORIAN
METHOD:PUBLISH
X-WR-CALNAME:Tom Bird
X-ORIGINAL-URL:https://tombird.com
X-WR-CALDESC:Events for Tom Bird
REFRESH-INTERVAL;VALUE=DURATION:PT1H
X-Robots-Tag:noindex
X-PUBLISHED-TTL:PT1H
BEGIN:VTIMEZONE
TZID:America/Phoenix
BEGIN:STANDARD
TZOFFSETFROM:-0700
TZOFFSETTO:-0700
TZNAME:MST
DTSTART:20250101T000000
END:STANDARD
END:VTIMEZONE
BEGIN:VEVENT
DTSTART;TZID=America/Phoenix:20260919T090000
DTEND;TZID=America/Phoenix:20260919T103000
DTSTAMP:20260421T085845
CREATED:20251121T150415Z
LAST-MODIFIED:20260116T004155Z
UID:6408-1789808400-1789813800@tombird.com
SUMMARY:How to Write Your Book in a Weekend
DESCRIPTION:How to Write Your Book in a Weekend\nDate: Saturday\, September 19\, 2026 \nTime: 9-11 AM Arizona (MST) \nCost: $39 \nVenue: Virtually on Zoom \nRegistration required.\n \nRegister Now\n 
URL:https://tombird.com/event/2026-09-19/
LOCATION:Zoom.us
CATEGORIES:Virtual,Webinar,Writing
ORGANIZER;CN="Tom Bird":MAILTO:office@tombird.com
END:VEVENT
END:VCALENDAR