BEGIN:VCALENDAR
VERSION:2.0
PRODID:-//Tom Bird - ECPv6.15.18//NONSGML v1.0//EN
CALSCALE:GREGORIAN
METHOD:PUBLISH
X-WR-CALNAME:Tom Bird
X-ORIGINAL-URL:https://tombird.com
X-WR-CALDESC:Events for Tom Bird
REFRESH-INTERVAL;VALUE=DURATION:PT1H
X-Robots-Tag:noindex
X-PUBLISHED-TTL:PT1H
BEGIN:VTIMEZONE
TZID:America/Phoenix
BEGIN:STANDARD
TZOFFSETFROM:-0700
TZOFFSETTO:-0700
TZNAME:MST
DTSTART:20250101T000000
END:STANDARD
END:VTIMEZONE
BEGIN:VEVENT
DTSTART;TZID=America/Phoenix:20260313T090000
DTEND;TZID=America/Phoenix:20260315T123000
DTSTAMP:20260421T050734
CREATED:20251107T155347Z
LAST-MODIFIED:20251107T155836Z
UID:6385-1773392400-1773577800@tombird.com
SUMMARY:Virtual Retreat - Write Your Book in a Weekend
DESCRIPTION:  \nThis is an EXCLUSIVE 35-person Write Your Book in a Weekend Retreat! Because of the deliberately small size of the group\, Tom will be personally able to mentor you through any hurdles and/or blockages. \nOver the course of these long weekends\, 95% of attendees finish the writing of their books for a wide array of reasons\, including publication\, creative expression\, professional development\, healing\, and transformation. \nWhen done from the holistic Divine Author Within space\, the magic of writing provides a heart-centered connection that uncovers life’s mysteries and creates permanent life-changing transformation. \nYou can write your book long-hand or on your laptop computer (you are not required to use a laptop).  If you are a speedy typist\, you can save the step of having to type your entire manuscript at a later time. \nSchedule\nThe average length of an American book is 35\,000 words these days. So you can see where the ability to write your book over the course of a long weekend comes into play. \nTimeframe*: \nFriday\, March 13: 9:00 AM – 4:30 PM MST (Arizona)\nSaturday\, March 14: 9:00 AM – 4:30 PM MST (Arizona)\nSunday\, March 15: 9:00 AM – 12:30 PM MST (Arizona) \nDuring Daylight Saving Time (March 8-November 1\, 2026)\, Arizona Time is the same as Pacific Time and one hour behind Mountain Daylight Time. \nMore Details\nRegistration space: 35 \nRegistration: Registration necessary. \nType: Open to All Writers \nEveryone will start out writing long-hand\, you can switch to an electronic device (laptop\, computer\, a tablet with keyboard) when instructed. You are not required to use an electronic device\, however\, if you are a speedy typist\, you can save the step of having to type your entire manuscript at a later time. \nHow does one harness the Divine inspiration that has been nudging them all along?  Let’s delve more deeply into the preparation\, education\, writing and revision process: \n\nRETREAT TRANSFER POLICY \nAll monies paid for a retreat are non-refundable and non-transferable\, except as specifically set forth herein. Author may transfer Author’s reservation for a retreat to a separate retreat once\, provided the retreat to which Author desires to transfer is scheduled to take place within a 12-month period from the originally purchased retreat. Retreat transfer requests must be received by Presenter at least three weeks prior to the start of the retreat for which Author originally registered. In the unlikely event of the cancellation of a retreat for any reason\, a makeup retreat will be scheduled in the same area for a date no more than 12-months after the original date of the retreat canceled. At the time of any cancellation by Presenter\, registered participants can either transfer\, at no extra charge\, their registration to the makeup retreat or to any other already scheduled retreat within the 12-month period from the date of the cancelled retreat. \nIn the event Presenter is not able to conduct the retreat or provide a makeup retreat or provide any other services paid for by Author for any reason\, Presenter’s liability to Author shall be limited solely to a refund of any monies already paid by the Author to Presenter. \nRead the Complete Retreat Terms & Conditions here. \n\n  \nRegister Now\n 
URL:https://tombird.com/event/retreat-virtual-2026-03/
LOCATION:Zoom.us
CATEGORIES:Book in a Weekend (Virtual),Retreat,Writing
ATTACH;FMTTYPE=image/png:https://tombird.com/wp-content/uploads/2019/11/RYB-scaled-e1576267184798.png
ORGANIZER;CN="Tom Bird":MAILTO:office@tombird.com
END:VEVENT
END:VCALENDAR