BEGIN:VCALENDAR
VERSION:2.0
PRODID:-//Tom Bird - ECPv6.15.18//NONSGML v1.0//EN
CALSCALE:GREGORIAN
METHOD:PUBLISH
X-ORIGINAL-URL:https://tombird.com
X-WR-CALDESC:Events for Tom Bird
REFRESH-INTERVAL;VALUE=DURATION:PT1H
X-Robots-Tag:noindex
X-PUBLISHED-TTL:PT1H
BEGIN:VTIMEZONE
TZID:America/Phoenix
BEGIN:STANDARD
TZOFFSETFROM:-0700
TZOFFSETTO:-0700
TZNAME:MST
DTSTART:20240101T000000
END:STANDARD
END:VTIMEZONE
BEGIN:VEVENT
DTSTART;TZID=America/Phoenix:20250111T090000
DTEND;TZID=America/Phoenix:20250111T101500
DTSTAMP:20260421T041131
CREATED:20241207T170018Z
LAST-MODIFIED:20241206T194502Z
UID:6298-1736586000-1736590500@tombird.com
SUMMARY:WHAT does your Divine Author want to do in 2025?
DESCRIPTION:WHAT does your Divine Author want to do in 2025?\nLet’s find out together! \nJoin me for this free webinar so you can begin to set your writing path for the coming year. \nThis will prove to be a truly inspiring morning. \n\nRegister Now\n 
URL:https://tombird.com/event/2025-01-11/
LOCATION:Zoom.us
CATEGORIES:Virtual,Webinar,Writing
ORGANIZER;CN="Tom Bird":MAILTO:office@tombird.com
END:VEVENT
BEGIN:VEVENT
DTSTART;TZID=America/Phoenix:20250118T090000
DTEND;TZID=America/Phoenix:20250118T103000
DTSTAMP:20260421T041131
CREATED:20241220T230014Z
LAST-MODIFIED:20241220T230020Z
UID:6303-1737190800-1737196200@tombird.com
SUMMARY:Get Rid of Writer's Block FOREVER
DESCRIPTION:Get Rid of Writer’s Block FOREVER!\nWriter’s block is easily cured in minutes. I’ve led thousands out of the shadows of this creative constipation and I can do the same for you!! \nJoin me for this free webinar! \n\nRegister Now\n 
URL:https://tombird.com/event/2025-01-18/
LOCATION:Zoom.us
CATEGORIES:Virtual,Webinar,Writing
ORGANIZER;CN="Tom Bird":MAILTO:office@tombird.com
END:VEVENT
END:VCALENDAR