BEGIN:VCALENDAR
VERSION:2.0
PRODID:-//Tom Bird - ECPv6.15.18//NONSGML v1.0//EN
CALSCALE:GREGORIAN
METHOD:PUBLISH
X-ORIGINAL-URL:https://tombird.com
X-WR-CALDESC:Events for Tom Bird
REFRESH-INTERVAL;VALUE=DURATION:PT1H
X-Robots-Tag:noindex
X-PUBLISHED-TTL:PT1H
BEGIN:VTIMEZONE
TZID:America/Phoenix
BEGIN:STANDARD
TZOFFSETFROM:-0700
TZOFFSETTO:-0700
TZNAME:MST
DTSTART:20220101T000000
END:STANDARD
END:VTIMEZONE
BEGIN:VEVENT
DTSTART;TZID=America/Phoenix:20230301T180000
DTEND;TZID=America/Phoenix:20230301T190000
DTSTAMP:20260422T162150
CREATED:20230214T173135Z
LAST-MODIFIED:20230214T173211Z
UID:5782-1677693600-1677697200@tombird.com
SUMMARY:Surrendering to the Writing of Your Book
DESCRIPTION:Surrendering to the Writing of Your Book\nAre you ready to turn the writing of your book over to something greater than your ego? \nLet’s find out… \nSign up for the free class….your life is waiting!
URL:https://tombird.com/event/surrendering-book/
LOCATION:Zoom.us
CATEGORIES:Virtual,Webinar,Workshop,Writing
ORGANIZER;CN="Tom Bird":MAILTO:office@tombird.com
END:VEVENT
END:VCALENDAR