BEGIN:VCALENDAR
VERSION:2.0
PRODID:-//Tom Bird - ECPv6.15.18//NONSGML v1.0//EN
CALSCALE:GREGORIAN
METHOD:PUBLISH
X-ORIGINAL-URL:https://tombird.com
X-WR-CALDESC:Events for Tom Bird
REFRESH-INTERVAL;VALUE=DURATION:PT1H
X-Robots-Tag:noindex
X-PUBLISHED-TTL:PT1H
BEGIN:VTIMEZONE
TZID:America/Phoenix
BEGIN:STANDARD
TZOFFSETFROM:-0700
TZOFFSETTO:-0700
TZNAME:MST
DTSTART:20220101T000000
END:STANDARD
END:VTIMEZONE
BEGIN:VEVENT
DTSTART;TZID=America/Phoenix:20230503T173000
DTEND;TZID=America/Phoenix:20230503T183000
DTSTAMP:20260422T131622
CREATED:20230419T080056Z
LAST-MODIFIED:20230418T231620Z
UID:5804-1683135000-1683138600@tombird.com
SUMMARY:How Writing Heals
DESCRIPTION:How Writing Heals\nSign up for the free class….your life is waiting!
URL:https://tombird.com/event/howwritingheals/
LOCATION:Zoom.us
CATEGORIES:Virtual,Webinar,Writing
ORGANIZER;CN="Tom Bird":MAILTO:office@tombird.com
END:VEVENT
END:VCALENDAR