BEGIN:VCALENDAR
VERSION:2.0
PRODID:-//Tom Bird - ECPv6.15.18//NONSGML v1.0//EN
CALSCALE:GREGORIAN
METHOD:PUBLISH
X-WR-CALNAME:Tom Bird
X-ORIGINAL-URL:https://tombird.com
X-WR-CALDESC:Events for Tom Bird
REFRESH-INTERVAL;VALUE=DURATION:PT1H
X-Robots-Tag:noindex
X-PUBLISHED-TTL:PT1H
BEGIN:VTIMEZONE
TZID:America/Phoenix
BEGIN:STANDARD
TZOFFSETFROM:-0700
TZOFFSETTO:-0700
TZNAME:MST
DTSTART:20220101T000000
END:STANDARD
END:VTIMEZONE
BEGIN:VEVENT
DTSTART;TZID=America/Phoenix:20230614T170000
DTEND;TZID=America/Phoenix:20230614T183000
DTSTAMP:20260422T113435
CREATED:20230424T233107Z
LAST-MODIFIED:20230424T233107Z
UID:5806-1686762000-1686767400@tombird.com
SUMMARY:How to Write Your Book in a Weekend
DESCRIPTION:How to Write Your Book in a Weekend!\nI share it all – all the secrets that have led thousands to write their books in a weekend.\nSign up for the free class!
URL:https://tombird.com/event/how-to-write-your-book-in-a-weekend/
LOCATION:Zoom.us
CATEGORIES:Virtual,Webinar,Writing
ORGANIZER;CN="Tom Bird":MAILTO:office@tombird.com
END:VEVENT
END:VCALENDAR