BEGIN:VCALENDAR
VERSION:2.0
PRODID:-//Tom Bird - ECPv6.15.18//NONSGML v1.0//EN
CALSCALE:GREGORIAN
METHOD:PUBLISH
X-WR-CALNAME:Tom Bird
X-ORIGINAL-URL:https://tombird.com
X-WR-CALDESC:Events for Tom Bird
REFRESH-INTERVAL;VALUE=DURATION:PT1H
X-Robots-Tag:noindex
X-PUBLISHED-TTL:PT1H
BEGIN:VTIMEZONE
TZID:America/Phoenix
BEGIN:STANDARD
TZOFFSETFROM:-0700
TZOFFSETTO:-0700
TZNAME:MST
DTSTART:20240101T000000
END:STANDARD
END:VTIMEZONE
BEGIN:VEVENT
DTSTART;TZID=America/Phoenix:20250821T173000
DTEND;TZID=America/Phoenix:20250821T183000
DTSTAMP:20260421T163920
CREATED:20250815T184249Z
LAST-MODIFIED:20250815T184307Z
UID:6354-1755797400-1755801000@tombird.com
SUMMARY:Are You Meant to Author a Book?
DESCRIPTION:Are You Meant to Author a Book?\nDate: Thursday\, August 21st \nTime: 5:30-6:30 PM Pacific \nCost: Free \nVenue: Virtually on Zoom \nRegistration required.\n \nRegister Now\n 
URL:https://tombird.com/event/2025-08-21/
LOCATION:Zoom.us
CATEGORIES:Virtual,Webinar,Writing
ORGANIZER;CN="Tom Bird":MAILTO:office@tombird.com
END:VEVENT
BEGIN:VEVENT
DTSTART;TZID=America/Phoenix:20250828T173000
DTEND;TZID=America/Phoenix:20250828T183000
DTSTAMP:20260421T163920
CREATED:20250815T184522Z
LAST-MODIFIED:20250815T184522Z
UID:6358-1756402200-1756405800@tombird.com
SUMMARY:What is Your Divine Purpose as an Author?
DESCRIPTION:What is Your Divine Purpose as an Author?\nDate: Thursday\, August 28th \nTime: 5:30-6:30 PM Pacific \nCost: Free \nVenue: Virtually on Zoom \nRegistration required.\n \nRegister Now\n 
URL:https://tombird.com/event/2025-08-28/
LOCATION:Zoom.us
CATEGORIES:Virtual,Webinar,Writing
ORGANIZER;CN="Tom Bird":MAILTO:office@tombird.com
END:VEVENT
END:VCALENDAR